BEGIN:VCALENDAR
VERSION:2.0
PRODID:-//cagemeet.de - ECPv6.15.13//NONSGML v1.0//EN
CALSCALE:GREGORIAN
METHOD:PUBLISH
X-WR-CALNAME:cagemeet.de
X-ORIGINAL-URL:https://cagemeet.de
X-WR-CALDESC:Veranstaltungen für cagemeet.de
REFRESH-INTERVAL;VALUE=DURATION:PT1H
X-Robots-Tag:noindex
X-PUBLISHED-TTL:PT1H
BEGIN:VTIMEZONE
TZID:Europe/Berlin
BEGIN:DAYLIGHT
TZOFFSETFROM:+0100
TZOFFSETTO:+0200
TZNAME:CEST
DTSTART:20250330T010000
END:DAYLIGHT
BEGIN:STANDARD
TZOFFSETFROM:+0200
TZOFFSETTO:+0100
TZNAME:CET
DTSTART:20251026T010000
END:STANDARD
BEGIN:DAYLIGHT
TZOFFSETFROM:+0100
TZOFFSETTO:+0200
TZNAME:CEST
DTSTART:20260329T010000
END:DAYLIGHT
BEGIN:STANDARD
TZOFFSETFROM:+0200
TZOFFSETTO:+0100
TZNAME:CET
DTSTART:20261025T010000
END:STANDARD
BEGIN:DAYLIGHT
TZOFFSETFROM:+0100
TZOFFSETTO:+0200
TZNAME:CEST
DTSTART:20270328T010000
END:DAYLIGHT
BEGIN:STANDARD
TZOFFSETFROM:+0200
TZOFFSETTO:+0100
TZNAME:CET
DTSTART:20271031T010000
END:STANDARD
END:VTIMEZONE
BEGIN:VEVENT
DTSTART;TZID=Europe/Berlin:20260502T150000
DTEND;TZID=Europe/Berlin:20260502T180000
DTSTAMP:20260423T164139
CREATED:20260414T061830Z
LAST-MODIFIED:20260414T064244Z
UID:22691-1777734000-1777744800@cagemeet.de
SUMMARY:Alina Dalaslan Seminar in Weinstadt
DESCRIPTION:Erlebe ein exklusives Kampfsportseminar mit MMA-Profi Alina Dalaslan – Technik\, Erfahrung & echtes Profi-Level aus erster Hand. \n📅 02.05.2026\n⏰ 15:00 – 18:00 Uhr\n📍 S.C. Kampfsportschule\, Weinstadt \n👊 Für alle Levels geeignet\n👥 Die Plätze sind begrenzt – sei schnell!\n💸 89 € regulär\n💸 69 € für Mitglieder \nNach dem Seminar: Fotos\, Gespräche & Merch vor Ort 📸 \n👉Bei Interesse bei @s.c.kampfsportschule_stuttgart auf Instagram melden
URL:https://cagemeet.de/event/alina-dalaslan-seminar-in-weinstadt/
LOCATION:S.C. Kampfsportschule\, werkstraße 26\, Weinstadt\, 71384\, DE
ATTACH;FMTTYPE=image/jpeg:https://cagemeet.de/wp-content/uploads/2026/04/DBEF306A-B8C4-4B67-93FB-05E82DE059D7.jpeg
END:VEVENT
END:VCALENDAR