BEGIN:VCALENDAR
VERSION:2.0
PRODID:-//cagemeet.de - ECPv6.15.13//NONSGML v1.0//EN
CALSCALE:GREGORIAN
METHOD:PUBLISH
X-ORIGINAL-URL:https://cagemeet.de
X-WR-CALDESC:Veranstaltungen für cagemeet.de
REFRESH-INTERVAL;VALUE=DURATION:PT1H
X-Robots-Tag:noindex
X-PUBLISHED-TTL:PT1H
BEGIN:VTIMEZONE
TZID:Europe/Berlin
BEGIN:DAYLIGHT
TZOFFSETFROM:+0100
TZOFFSETTO:+0200
TZNAME:CEST
DTSTART:20250330T010000
END:DAYLIGHT
BEGIN:STANDARD
TZOFFSETFROM:+0200
TZOFFSETTO:+0100
TZNAME:CET
DTSTART:20251026T010000
END:STANDARD
BEGIN:DAYLIGHT
TZOFFSETFROM:+0100
TZOFFSETTO:+0200
TZNAME:CEST
DTSTART:20260329T010000
END:DAYLIGHT
BEGIN:STANDARD
TZOFFSETFROM:+0200
TZOFFSETTO:+0100
TZNAME:CET
DTSTART:20261025T010000
END:STANDARD
BEGIN:DAYLIGHT
TZOFFSETFROM:+0100
TZOFFSETTO:+0200
TZNAME:CEST
DTSTART:20270328T010000
END:DAYLIGHT
BEGIN:STANDARD
TZOFFSETFROM:+0200
TZOFFSETTO:+0100
TZNAME:CET
DTSTART:20271031T010000
END:STANDARD
END:VTIMEZONE
BEGIN:VEVENT
DTSTART;TZID=Europe/Berlin:20260426T140000
DTEND;TZID=Europe/Berlin:20260426T160000
DTSTAMP:20260423T150311
CREATED:20260419T110009Z
LAST-MODIFIED:20260419T110009Z
UID:22706-1777212000-1777219200@cagemeet.de
SUMMARY:Miran Fabjan Seminar 🇧🇦
DESCRIPTION:Experience an exclusive martial arts seminar with MMA pro Miran Fabjan – technique\, experience & real pro-level knowledge straight from the source.\nAnd the best part: 100% of all proceeds go to children with cancer. ❤️\n📅 26.04.2026 (Sunday)\n🕑 14:00 – 16:00\n📍 Sports Hall “Midhad Hujdur Hujka”\, Mostar\n👊 Suitable for all levels\n💰 Participation fee: 50 KM (25\,57€)\n❤️ All proceeds support children with cancer\n👉 Register via Instagram:\n@reflexmostar
URL:https://cagemeet.de/event/miran-fabjan-seminar-%f0%9f%87%a7%f0%9f%87%a6/
LOCATION:USRC Midhad Hujdur Hujka\, Sjeverni logor bb\, Mostar\, 88000
ATTACH;FMTTYPE=image/jpeg:https://cagemeet.de/wp-content/uploads/2026/04/A342D751-1F4A-4CDD-853B-0063DC8B5080.jpeg
END:VEVENT
END:VCALENDAR